BEGIN:VCALENDAR
VERSION:2.0
PRODID:-//Le MUB - ECPv5.5.0//NONSGML v1.0//EN
CALSCALE:GREGORIAN
METHOD:PUBLISH
X-WR-CALNAME:Le MUB
X-ORIGINAL-URL:https://museedubois.com
X-WR-CALDESC:évènements pour Le MUB
BEGIN:VTIMEZONE
TZID:UTC
BEGIN:STANDARD
TZOFFSETFROM:+0000
TZOFFSETTO:+0000
TZNAME:UTC
DTSTART:20210101T000000
END:STANDARD
END:VTIMEZONE
BEGIN:VEVENT
DTSTART;VALUE=DATE:20210601
DTEND;VALUE=DATE:20210920
DTSTAMP:20260423T115826
CREATED:20190530T123145Z
LAST-MODIFIED:20210710T153557Z
UID:263-1622505600-1632095999@museedubois.com
SUMMARY:TOKYO 2020 — Les Jeux olympiques de Tokyo en marqueterie
DESCRIPTION:Le MUB – musée du bois de Revel accueil pour sa réouverture\, une exposition du travail des élèves du CAP marqueterie du Lycée des métiers d’art\, du bois et de l’ameublement de Revel. À partir du thème des Jeux olympiques\, les 13 élèves du CAP marqueterie ont réalisé une série de travaux tout au long de l’année scolaire 2020-2021. L’objectif de l’année était de proposer différents sujets aux élèves (carpe koï\, skyline\, kakémono\, attitude sportive…) pour créer un ensemble mêlant différentes formes techniques et matériaux. Le parrain de la section Stéphane Diagana\, athlète de haut niveau\, a été présent pour encourager et motiver les jeunes dans leur démarche de création.  Cette exposition vous sera proposée avec le partenariat de l’association “Revel\, Terre de Jeux” et de l’entreprise Nutrition et Santé\, que nous remercions. \n				\n				\n				\n				\n					\n			\n		\n				\n				\n				\n				\n			Commander un ticket
URL:https://museedubois.com/exposition/exposition-tokyo-cap-marquetereur-revel-realisations-jeux-olympique/
CATEGORIES:Exposition
ATTACH;FMTTYPE=image/jpeg:https://museedubois.com/wp-content/webpc-passthru.php?src=https://museedubois.com/wp-content/uploads/2019/05/Attitude-Enora-400-x-270-scaled.jpg&amp;nocache=1
END:VEVENT
END:VCALENDAR