BEGIN:VCALENDAR
VERSION:2.0
PRODID:-//Le MUB - ECPv5.5.0//NONSGML v1.0//EN
CALSCALE:GREGORIAN
METHOD:PUBLISH
X-WR-CALNAME:Le MUB
X-ORIGINAL-URL:https://museedubois.com
X-WR-CALDESC:évènements pour Le MUB
BEGIN:VTIMEZONE
TZID:UTC
BEGIN:STANDARD
TZOFFSETFROM:+0000
TZOFFSETTO:+0000
TZNAME:UTC
DTSTART:20240101T000000
END:STANDARD
END:VTIMEZONE
BEGIN:VEVENT
DTSTART;VALUE=DATE:20240921
DTEND;VALUE=DATE:20240923
DTSTAMP:20260419T171524
CREATED:20240829T100723Z
LAST-MODIFIED:20240829T103009Z
UID:9770-1726876800-1727049599@museedubois.com
SUMMARY:Journées Européennes du Patrimoine 2024
DESCRIPTION:À l’occasion des Journées Européennes du Patrimoine\, Le MUB – Musée du bois de Revel vous invite à venir découvrir ses deux expositions du moment : L’exposition « Métiers d’Art et du Design » qui vous invite à découvrir les projets de fins d’étude des étudiants en ébénisterie\, marqueterie\, restauration de meuble ancien et tapisserie d’ameublement de Revel !L’exposition « Paris 2024« \, pour une nouvelle année\, le MUB vous invite à venir découvrir le travail des élèves du CAP marqueterie du lycée des métiers d’art\, du bois et de l’ameublement de Revel sur le thème des Jeux Olympiques de Paris pour 2024 !  
URL:https://museedubois.com/exposition/journees-europeennes-du-patrimoine/
LOCATION:MUB – musée du bois de Revel\, 13 rue Jean Moulin\, Revel\, 31250\, France
CATEGORIES:Animation
ATTACH;FMTTYPE=image/jpeg:https://museedubois.com/wp-content/webpc-passthru.php?src=https://museedubois.com/wp-content/uploads/2024/08/Sans-titre-2-1.jpg&amp;nocache=1
END:VEVENT
END:VCALENDAR