BEGIN:VCALENDAR
VERSION:2.0
PRODID:-//Le MUB - ECPv5.5.0//NONSGML v1.0//EN
CALSCALE:GREGORIAN
METHOD:PUBLISH
X-WR-CALNAME:Le MUB
X-ORIGINAL-URL:https://museedubois.com
X-WR-CALDESC:évènements pour Le MUB
BEGIN:VTIMEZONE
TZID:UTC
BEGIN:STANDARD
TZOFFSETFROM:+0000
TZOFFSETTO:+0000
TZNAME:UTC
DTSTART:20220101T000000
END:STANDARD
END:VTIMEZONE
BEGIN:VEVENT
DTSTART;VALUE=DATE:20220628
DTEND;VALUE=DATE:20220919
DTSTAMP:20260421T004150
CREATED:20220531T141521Z
LAST-MODIFIED:20220701T132911Z
UID:8007-1656374400-1663545599@museedubois.com
SUMMARY:DNMADE en couleurs
DESCRIPTION:Cet été le MUB – Musée du bois de Revel vous invite à venir découvrir\, une fois encore\, les créations des élèves du lycée des métiers d’art\, du bois et de l’ameublement de Revel dans le cadre de sa traditionnelle exposition dédiée au travaux de fin d’étude des élèves.  Vous pourrez admirer les projets des différentes sections du DNMADE (Diplôme National des Métiers d’Art et du Design) d’un niveau licence (bac +3) dans 4 disciplines représentées : la Tapisserie d’ameublement\,l’Ébénisterie\,la Restauration de meuble ancien\,ainsi que la Marqueterie. 
URL:https://museedubois.com/exposition/dnmade-en-couleurs/
LOCATION:MUB – musée du bois de Revel\, 13 rue Jean Moulin\, Revel\, 31250\, France
CATEGORIES:Exposition
ATTACH;FMTTYPE=image/jpeg:https://museedubois.com/wp-content/webpc-passthru.php?src=https://museedubois.com/wp-content/uploads/2022/07/IMG_5968-scaled-e1688043638737.jpg&amp;nocache=1
END:VEVENT
BEGIN:VEVENT
DTSTART;VALUE=DATE:20220628
DTEND;VALUE=DATE:20220919
DTSTAMP:20260421T004151
CREATED:20220531T141837Z
LAST-MODIFIED:20220701T132805Z
UID:8033-1656374400-1663545599@museedubois.com
SUMMARY:Beijing 2022
DESCRIPTION:Cet été le MUB – Musée du bois de Revel vous invite à venir découvrir\, une fois encore\, les créations des élèves du lycée des métiers d’art\, du bois et de l’ameublement de Revel dans le cadre de sa traditionnelle exposition dédiée au travaux de fin d’étude des élèves.  Vous pourrez admirer les projets des différentes sections du DNMADE (Diplôme National des Métiers d’Art et du Design) d’un niveau licence (bac +3) dans 4 disciplines représentées : la Tapisserie d’ameublement\,l’Ébénisterie\,la Restauration de meuble ancien\,ainsi que la Marqueterie. 
URL:https://museedubois.com/exposition/pekin-2022/
LOCATION:MUB – musée du bois de Revel\, 13 rue Jean Moulin\, Revel\, 31250\, France
CATEGORIES:Exposition
ATTACH;FMTTYPE=image/jpeg:https://museedubois.com/wp-content/webpc-passthru.php?src=https://museedubois.com/wp-content/uploads/2022/07/IMG_0366-scaled.jpg&amp;nocache=1
END:VEVENT
BEGIN:VEVENT
DTSTART;VALUE=DATE:20220917
DTEND;VALUE=DATE:20220919
DTSTAMP:20260421T004151
CREATED:20220831T134346Z
LAST-MODIFIED:20220918T142355Z
UID:8244-1663372800-1663545599@museedubois.com
SUMMARY:Journées Européennes du Patrimoine
DESCRIPTION:Cet été le MUB – Musée du bois de Revel vous invite à venir découvrir\, une fois encore\, les créations des élèves du lycée des métiers d’art\, du bois et de l’ameublement de Revel dans le cadre de sa traditionnelle exposition dédiée au travaux de fin d’étude des élèves.  Vous pourrez admirer les projets des différentes sections du DNMADE (Diplôme National des Métiers d’Art et du Design) d’un niveau licence (bac +3) dans 4 disciplines représentées : la Tapisserie d’ameublement\,l’Ébénisterie\,la Restauration de meuble ancien\,ainsi que la Marqueterie. 
URL:https://museedubois.com/exposition/journees-europeennes-patrimoine/
LOCATION:MUB – musée du bois de Revel\, 13 rue Jean Moulin\, Revel\, 31250\, France
CATEGORIES:Exposition
ATTACH;FMTTYPE=image/jpeg:https://museedubois.com/wp-content/webpc-passthru.php?src=https://museedubois.com/wp-content/uploads/2022/08/RIMASUU_JEP2022_FACEBOOK_COUVERTURE_2.jpg&amp;nocache=1
END:VEVENT
BEGIN:VEVENT
DTSTART;VALUE=DATE:20220918
DTEND;VALUE=DATE:20221228
DTSTAMP:20260421T004151
CREATED:20220918T141837Z
LAST-MODIFIED:20220918T143508Z
UID:8292-1663459200-1672185599@museedubois.com
SUMMARY:Elles Tournent
DESCRIPTION:Cet été le MUB – Musée du bois de Revel vous invite à venir découvrir\, une fois encore\, les créations des élèves du lycée des métiers d’art\, du bois et de l’ameublement de Revel dans le cadre de sa traditionnelle exposition dédiée au travaux de fin d’étude des élèves.  Vous pourrez admirer les projets des différentes sections du DNMADE (Diplôme National des Métiers d’Art et du Design) d’un niveau licence (bac +3) dans 4 disciplines représentées : la Tapisserie d’ameublement\,l’Ébénisterie\,la Restauration de meuble ancien\,ainsi que la Marqueterie. 
URL:https://museedubois.com/exposition/elles-tournent/
LOCATION:MUB – musée du bois de Revel\, 13 rue Jean Moulin\, Revel\, 31250\, France
CATEGORIES:Exposition
ATTACH;FMTTYPE=image/jpeg:https://museedubois.com/wp-content/webpc-passthru.php?src=https://museedubois.com/wp-content/uploads/2022/09/visuel-site.jpg&amp;nocache=1
END:VEVENT
END:VCALENDAR