BEGIN:VCALENDAR
VERSION:2.0
PRODID:-//Le MUB - ECPv5.5.0//NONSGML v1.0//EN
CALSCALE:GREGORIAN
METHOD:PUBLISH
X-WR-CALNAME:Le MUB
X-ORIGINAL-URL:https://museedubois.com
X-WR-CALDESC:évènements pour Le MUB
BEGIN:VTIMEZONE
TZID:UTC
BEGIN:STANDARD
TZOFFSETFROM:+0000
TZOFFSETTO:+0000
TZNAME:UTC
DTSTART:20250101T000000
END:STANDARD
END:VTIMEZONE
BEGIN:VEVENT
DTSTART;VALUE=DATE:20250626
DTEND;VALUE=DATE:20250922
DTSTAMP:20260420T115726
CREATED:20250611T151545Z
LAST-MODIFIED:20250812T124457Z
UID:10710-1750896000-1758499199@museedubois.com
SUMMARY:Exposition Métiers d'Art & du Design
DESCRIPTION:Exposition des étudiants et étudiantes \ndu Lycée des métiers d'art de Revel 		\n				\n						\n					\n		\n								\n					\n		\n				\n						\n							\n					\n			\n							\n						\n				\n					\n			\n		\n				\n				\n						\n					\n		\n								\n					\n		\n				\n						\n							\n					\n			\n							\n						\n				\n					Pour la 11ème année consécutive\, l’équipe de MUB  présente les travaux  des étudiants et étudiantes du Lycée professionnel des métiers d’art\, du bois et de l’ameublement de Revel ! Comme à son habitude\, l’ensemble des créations des 4 sections  – Ebénistes / Restaurateurs / Tapissiers et Marqueteurs\, seront exposées dans les murs du musée. Cette année 16 étudiants et étudiantes en Ébénisterie\, Marqueterie\, Tapisserie d’ameublement et Restauration de meuble ancien vous invitent à découvrir l’étendue de leur savoir-faire grâce à une présentation de leur projet de fin d’études.  \n				\n				\n						\n					\n		\n								\n					\n		\n				\n						\n							\n					\n			\n							\n								\n					\n		\n								\n					\n		\n				\n						\n							\n					\n			\n							\n						\n				\n					\n			\n		\n				\n				\n						\n					\n		\n								\n					\n		\n				\n						\n							\n					\n			\n							\n						\n				\n					\n			\n							\n												\n													\n						\n						Précédent\n					\n					\n						\n						Suivant
URL:https://museedubois.com/exposition/exposition-metiers-dart-du-design/
LOCATION:MUB – musée du bois de Revel\, 13 rue Jean Moulin\, Revel\, 31250\, France
CATEGORIES:Exposition
ATTACH;FMTTYPE=image/jpeg:https://museedubois.com/wp-content/webpc-passthru.php?src=https://museedubois.com/wp-content/uploads/2025/06/Affiche-A3-ok_page-0001-Copie.jpg&amp;nocache=1
END:VEVENT
BEGIN:VEVENT
DTSTART;VALUE=DATE:20250626
DTEND;VALUE=DATE:20260101
DTSTAMP:20260420T115727
CREATED:20250618T095614Z
LAST-MODIFIED:20250812T124550Z
UID:10755-1750896000-1767225599@museedubois.com
SUMMARY:Exposition Marqueterie Art Déco - Paris 1925
DESCRIPTION:Exposition des étudiants et étudiantes \ndu Lycée des métiers d'art de Revel 		\n				\n						\n					\n		\n								\n					\n		\n				\n						\n							\n					\n			\n							\n						\n				\n					\n			\n		\n				\n				\n						\n					\n		\n								\n					\n		\n				\n						\n							\n					\n			\n							\n						\n				\n					Pour la 11ème année consécutive\, l’équipe de MUB  présente les travaux  des étudiants et étudiantes du Lycée professionnel des métiers d’art\, du bois et de l’ameublement de Revel ! Comme à son habitude\, l’ensemble des créations des 4 sections  – Ebénistes / Restaurateurs / Tapissiers et Marqueteurs\, seront exposées dans les murs du musée. Cette année 16 étudiants et étudiantes en Ébénisterie\, Marqueterie\, Tapisserie d’ameublement et Restauration de meuble ancien vous invitent à découvrir l’étendue de leur savoir-faire grâce à une présentation de leur projet de fin d’études.  \n				\n				\n						\n					\n		\n								\n					\n		\n				\n						\n							\n					\n			\n							\n								\n					\n		\n								\n					\n		\n				\n						\n							\n					\n			\n							\n						\n				\n					\n			\n		\n				\n				\n						\n					\n		\n								\n					\n		\n				\n						\n							\n					\n			\n							\n						\n				\n					\n			\n							\n												\n													\n						\n						Précédent\n					\n					\n						\n						Suivant
URL:https://museedubois.com/exposition/exposition-marqueterie-art-deco-paris-1925/
LOCATION:MUB – musée du bois de Revel\, 13 rue Jean Moulin\, Revel\, 31250\, France
CATEGORIES:Exposition
ATTACH;FMTTYPE=image/png:https://museedubois.com/wp-content/webpc-passthru.php?src=https://museedubois.com/wp-content/uploads/2025/06/20230526132251_00008-removebg-preview.png&amp;nocache=1
END:VEVENT
BEGIN:VEVENT
DTSTART;VALUE=DATE:20250709
DTEND;VALUE=DATE:20250830
DTSTAMP:20260420T115727
CREATED:20250703T092724Z
LAST-MODIFIED:20250705T132522Z
UID:10801-1752019200-1756511999@museedubois.com
SUMMARY:Ateliers créatifs d'été
DESCRIPTION:Exposition des étudiants et étudiantes \ndu Lycée des métiers d'art de Revel 		\n				\n						\n					\n		\n								\n					\n		\n				\n						\n							\n					\n			\n							\n						\n				\n					\n			\n		\n				\n				\n						\n					\n		\n								\n					\n		\n				\n						\n							\n					\n			\n							\n						\n				\n					Pour la 11ème année consécutive\, l’équipe de MUB  présente les travaux  des étudiants et étudiantes du Lycée professionnel des métiers d’art\, du bois et de l’ameublement de Revel ! Comme à son habitude\, l’ensemble des créations des 4 sections  – Ebénistes / Restaurateurs / Tapissiers et Marqueteurs\, seront exposées dans les murs du musée. Cette année 16 étudiants et étudiantes en Ébénisterie\, Marqueterie\, Tapisserie d’ameublement et Restauration de meuble ancien vous invitent à découvrir l’étendue de leur savoir-faire grâce à une présentation de leur projet de fin d’études.  \n				\n				\n						\n					\n		\n								\n					\n		\n				\n						\n							\n					\n			\n							\n								\n					\n		\n								\n					\n		\n				\n						\n							\n					\n			\n							\n						\n				\n					\n			\n		\n				\n				\n						\n					\n		\n								\n					\n		\n				\n						\n							\n					\n			\n							\n						\n				\n					\n			\n							\n												\n													\n						\n						Précédent\n					\n					\n						\n						Suivant
URL:https://museedubois.com/exposition/ateliers-creatifs-dete-2/
LOCATION:MUB – musée du bois de Revel\, 13 rue Jean Moulin\, Revel\, 31250\, France
CATEGORIES:Exposition
ATTACH;FMTTYPE=image/jpeg:https://museedubois.com/wp-content/webpc-passthru.php?src=https://museedubois.com/wp-content/uploads/2025/07/IMG_20250703_103417_edit_379922166322722-scaled.jpg&amp;nocache=1
END:VEVENT
BEGIN:VEVENT
DTSTART;VALUE=DATE:20250722
DTEND;VALUE=DATE:20250901
DTSTAMP:20260420T115727
CREATED:20250807T101156Z
LAST-MODIFIED:20250812T124715Z
UID:10859-1753142400-1756684799@museedubois.com
SUMMARY:Haïti : Les forgerons du vodou
DESCRIPTION:Exposition des étudiants et étudiantes \ndu Lycée des métiers d'art de Revel 		\n				\n						\n					\n		\n								\n					\n		\n				\n						\n							\n					\n			\n							\n						\n				\n					\n			\n		\n				\n				\n						\n					\n		\n								\n					\n		\n				\n						\n							\n					\n			\n							\n						\n				\n					Pour la 11ème année consécutive\, l’équipe de MUB  présente les travaux  des étudiants et étudiantes du Lycée professionnel des métiers d’art\, du bois et de l’ameublement de Revel ! Comme à son habitude\, l’ensemble des créations des 4 sections  – Ebénistes / Restaurateurs / Tapissiers et Marqueteurs\, seront exposées dans les murs du musée. Cette année 16 étudiants et étudiantes en Ébénisterie\, Marqueterie\, Tapisserie d’ameublement et Restauration de meuble ancien vous invitent à découvrir l’étendue de leur savoir-faire grâce à une présentation de leur projet de fin d’études.  \n				\n				\n						\n					\n		\n								\n					\n		\n				\n						\n							\n					\n			\n							\n								\n					\n		\n								\n					\n		\n				\n						\n							\n					\n			\n							\n						\n				\n					\n			\n		\n				\n				\n						\n					\n		\n								\n					\n		\n				\n						\n							\n					\n			\n							\n						\n				\n					\n			\n							\n												\n													\n						\n						Précédent\n					\n					\n						\n						Suivant
URL:https://museedubois.com/exposition/haiti-les-forgerons-du-vodou/
LOCATION:MUB – musée du bois de Revel\, 13 rue Jean Moulin\, Revel\, 31250\, France
CATEGORIES:Exposition
ATTACH;FMTTYPE=image/jpeg:https://museedubois.com/wp-content/webpc-passthru.php?src=https://museedubois.com/wp-content/uploads/2025/08/IMG_20250807_095238_edit_82363477010909-scaled.jpg&amp;nocache=1
END:VEVENT
END:VCALENDAR