BEGIN:VCALENDAR
VERSION:2.0
PRODID:-//Le MUB - ECPv5.5.0//NONSGML v1.0//EN
CALSCALE:GREGORIAN
METHOD:PUBLISH
X-WR-CALNAME:Le MUB
X-ORIGINAL-URL:https://museedubois.com
X-WR-CALDESC:évènements pour Le MUB
BEGIN:VTIMEZONE
TZID:UTC
BEGIN:STANDARD
TZOFFSETFROM:+0000
TZOFFSETTO:+0000
TZNAME:UTC
DTSTART:20260101T000000
END:STANDARD
END:VTIMEZONE
BEGIN:VEVENT
DTSTART;VALUE=DATE:20260101
DTEND;VALUE=DATE:20260220
DTSTAMP:20260420T204230
CREATED:20251231T140019Z
LAST-MODIFIED:20260108T091656Z
UID:11253-1767225600-1771545599@museedubois.com
SUMMARY:Fermeture annuelle
DESCRIPTION:Fermeture annuelle\njusqu'au 20 février 2026\n		\n				\n				\n				\n					\n			\n		\n				\n				\n						\n					\n		\n								\n					\n		\n				\n						\n							\n					\n			\n							\n						\n				\n					\n			\n		\n				\n				\n						\n					\n		\n								\n					\n		\n				\n						\n							\n					\n			\n							\n						\n				\n					Le musée du bois et de la marqueterie\, vous annonce sa fermeture annuelle.  Nous ouvrirons de nouveau les portes du musée le 20 février 2026\, du mardi au samedi de 10h à 12h30 et de 14h à 18h. L’exposition « Le Printemps de l’arbre »\, inaugurera la nouvelle année. Quatre artistes vous présenterons leur regard sensible sur cet éternel compagnon : l’arbre !  Pendant cette période – du 01 janvier au 19 février 2026 –  le musée reste accessible sur réservation pour les visites guidées de groupe.  Au plaisir de vous retrouver très vite ! Merci de votre compréhension. 
URL:https://museedubois.com/exposition/fermeture-annuelle-2026/
LOCATION:MUB – musée du bois de Revel\, 13 rue Jean Moulin\, Revel\, 31250\, France
CATEGORIES:Exposition
ATTACH;FMTTYPE=image/png:https://museedubois.com/wp-content/webpc-passthru.php?src=https://museedubois.com/wp-content/uploads/2026/01/Fermeture-annuelle.png&amp;nocache=1
END:VEVENT
END:VCALENDAR