BEGIN:VCALENDAR
VERSION:2.0
PRODID:-//Le MUB - ECPv5.5.0//NONSGML v1.0//EN
CALSCALE:GREGORIAN
METHOD:PUBLISH
X-WR-CALNAME:Le MUB
X-ORIGINAL-URL:https://museedubois.com
X-WR-CALDESC:évènements pour Le MUB
BEGIN:VTIMEZONE
TZID:UTC
BEGIN:STANDARD
TZOFFSETFROM:+0000
TZOFFSETTO:+0000
TZNAME:UTC
DTSTART:20250101T000000
END:STANDARD
END:VTIMEZONE
BEGIN:VEVENT
DTSTART;TZID=UTC:20250517T190000
DTEND;TZID=UTC:20250517T190000
DTSTAMP:20260424T004803
CREATED:20250513T153643Z
LAST-MODIFIED:20250812T124139Z
UID:10631-1747508400-1747508400@museedubois.com
SUMMARY:La Nuit Européenne des Musées
DESCRIPTION:Samedi 17 mai 2025		\n				\n						\n					\n		\n								\n					\n		\n				\n						\n							\n					\n			\n							\n						\n				\n					\n			\n		\n				\n				\n						\n					\n		\n								\n					\n		\n				\n						\n							\n					\n			\n							\n						\n				\n					De 19h à 22h\, le MUB – Musée du bois de Revel\, ouvrira gratuitement ses portes à l’occasion de la 21ème édition de la Nuit Européenne des Musées. Toute l’équipe vous invite à visiter ses deux expositions temporaires du moment : Feu Dormant et Regards Croisés.Ainsi qu’à parcourir les collections permanentes du musée.  Au cours de cette soirée\, l’équipe du MUB vous proposera :*) dans une ambiance nocturne\, des visites flash de l’exposition Regards Croisés. Temps des visites environ 20/30 minutes.*) une braderie aux livres ! 
URL:https://museedubois.com/exposition/la-nuit-europeenne-des-musees/
LOCATION:MUB – musée du bois de Revel\, 13 rue Jean Moulin\, Revel\, 31250\, France
CATEGORIES:Animation,Exposition
ATTACH;FMTTYPE=image/jpeg:https://museedubois.com/wp-content/webpc-passthru.php?src=https://museedubois.com/wp-content/uploads/2025/05/27ddb5587241-Format_4x5-Copie.jpg&amp;nocache=1
END:VEVENT
END:VCALENDAR