BEGIN:VCALENDAR
VERSION:2.0
PRODID:-//Le MUB - ECPv5.5.0//NONSGML v1.0//EN
CALSCALE:GREGORIAN
METHOD:PUBLISH
X-WR-CALNAME:Le MUB
X-ORIGINAL-URL:https://museedubois.com
X-WR-CALDESC:évènements pour Le MUB
BEGIN:VTIMEZONE
TZID:UTC
BEGIN:STANDARD
TZOFFSETFROM:+0000
TZOFFSETTO:+0000
TZNAME:UTC
DTSTART:20250101T000000
END:STANDARD
END:VTIMEZONE
BEGIN:VEVENT
DTSTART;VALUE=DATE:20250920
DTEND;VALUE=DATE:20250922
DTSTAMP:20260423T192023
CREATED:20250913T145358Z
LAST-MODIFIED:20250917T082811Z
UID:10977-1758326400-1758499199@museedubois.com
SUMMARY:Journées Européennes du Patrimoine 2025
DESCRIPTION:Les Journées Européennes du Patrimoine se tiendront le 20 et 21 septembre ! C’est l’occasion d’accéder au musée tout un week-end gratuitement !  Lors de cet événement\, le MUB vous propose de découvrir  ses collections permanentes et deux expositions temporaires  :  L’exposition « Métiers d’Art et du Design« \, partez à la rencontre des projets de fins d’étude des étudiants et étudiantes en ébénisterie\, marqueterie\, restauration de meuble ancien et tapisserie d’ameublement de Revel !L’exposition « Marqueterie Art Déco\, Paris 1925″\, pour le centenaire de ce mouvement\, venez voir en exclusivité un fond de marqueterie Art Déco d’un atelier parisien encore méconnu Bonnefond et Gaussinel\, ainsi que des pièces uniques du musée du verre de Sorèze\, des meubles des Ateliers Craman Lagarde et encore les travaux des étudiants et étudiantes en CAP marqueterie\, ébénisterie de Revel et joaillerie de Graulhet. Au programme durant l’ensemble du week-end : des étudiantes en DNMADE viendront vous présenter leurs projets. Discuter avec vous des étapes de confections traversées\, pour réaliser leurs pièces.des démonstrations de tournage\, sculpture sur bois et de marqueterie réalisées par des étudiants et étudiantes du lycée professionnel de Revel.une braderie de livres dans notre espace boutique sera également organisée.
URL:https://museedubois.com/exposition/journees-europeennes-du-patrimoine-2025/
LOCATION:MUB – musée du bois de Revel\, 13 rue Jean Moulin\, Revel\, 31250\, France
CATEGORIES:Animation
ATTACH;FMTTYPE=image/jpeg:https://museedubois.com/wp-content/webpc-passthru.php?src=https://museedubois.com/wp-content/uploads/2025/09/JEP2025_DOOH_1080x1920PX_HD-Copie-1.jpg&amp;nocache=1
END:VEVENT
END:VCALENDAR